BEGIN:VCALENDAR
VERSION:2.0
PRODID:-//eventon.com NONSGML v1.0//EN
CALSCALE:GREGORIAN
METHOD:PUBLISH
BEGIN:VEVENT
UID:69e9de687f1e5
DTSTAMP:20260423T085504Z
DTSTART:20260314T110000Z
DTEND:20260314T150000Z
LOCATION:
SUMMARY:Esquíva la cuesta con Atrapa Ofertas de Invierno
DESCRIPTION:Móstoles Desarrollo pone en marcha la campaña “Atrapa Ofer
 tas invierno” que tiene como objetivo fomentar el comercio local de los
  seis distritos de Móstoles\,  de forma particular. Para ello se combinar
  la puesta en marcha de actividades de entretenimiento dirigidas a los vec
 inos en las que ganarán tickets para canjear en los comercios[..]\nhttps:/
 /mostolesdesarrollo.es/events/esquiva-la-cuesta-con-atrapa-ofertas-de-invie
 rno-3
URL:https://mostolesdesarrollo.es/events/esquiva-la-cuesta-con-atrapa-ofertas-de-invierno-3
END:VEVENT
END:VCALENDAR