BEGIN:VCALENDAR
VERSION:2.0
PRODID:-//eventon.com NONSGML v1.0//EN
CALSCALE:GREGORIAN
METHOD:PUBLISH
BEGIN:VEVENT
UID:69e9f4f1ea1b1
DTSTAMP:20260423T103113Z
DTSTART:20250604T093000Z
DTEND:20250604T113000Z
LOCATION:
SUMMARY:FISCALIDAD DE AUTÃ“NOMOS Y PYMES
DESCRIPTION:El Ilustre Colegio de AbogacÃ­a de Madrid (ICAM) en colaboraciÃ
 ³n con MÃ³stoles Desarrollo celebra esta jornada donde personas expertas en
  la materia\,  impartirÃ¡n\,  de forma prÃ¡ctica\,  aspectos tributarios de
  interÃ©s para los autÃ³nomos como obligaciones y gastos que se pueden dedu
 cir.Â  Inscripciones\nhttps://mostolesdesarrollo.es/events/fiscalidad-de-au
 tonomos-y-pymes
URL:https://mostolesdesarrollo.es/events/fiscalidad-de-autonomos-y-pymes
END:VEVENT
END:VCALENDAR